BEGIN:VCALENDAR
VERSION:2.0
PRODID:-//Veronika Starr - ECPv6.15.20//NONSGML v1.0//EN
CALSCALE:GREGORIAN
METHOD:PUBLISH
X-WR-CALNAME:Veronika Starr
X-ORIGINAL-URL:https://veronikastarr.com
X-WR-CALDESC:Events for Veronika Starr
REFRESH-INTERVAL;VALUE=DURATION:PT1H
X-Robots-Tag:noindex
X-PUBLISHED-TTL:PT1H
BEGIN:VTIMEZONE
TZID:America/Panama
BEGIN:STANDARD
TZOFFSETFROM:-0500
TZOFFSETTO:-0500
TZNAME:EST
DTSTART:20230101T000000
END:STANDARD
END:VTIMEZONE
BEGIN:VEVENT
DTSTART;TZID=America/Panama:20241117T140000
DTEND;TZID=America/Panama:20241117T160000
DTSTAMP:20260422T101025
CREATED:20241014T032128Z
LAST-MODIFIED:20241025T035509Z
UID:2716-1731852000-1731859200@veronikastarr.com
SUMMARY:Echoes in Motion with Elsieanne Caplette
DESCRIPTION:Flow Qi with LIVE Musician\nSurrender to the sounds of Elsieanne Caplette\n“Echoes in Motion” with special guest Elsieanne Caplette invites you on an immersive journey where music and movement become one. Let Elsieanne’s captivating live vocals awaken your senses and guide you to embody the essence of your soul. \nExperience heightened awareness through the darkness of the space and an exquisitely curated soundscape. Allow yourself to dance freely\, unseen and untouched by the gaze of others. This lightly guided session encourages you to explore the spontaneous flow of your energy in a transformative and profound way. \nIn the intimate setting of Restaurant O.Noir\, the obscurity invites you to turn inward\, attuning to your body’s wisdom and the flow of life force energy. This practice blends the fluidity of FlowQi and the emotional music of ELSIANE\, creating an experience of deep surrender. You will leave feeling aligned\, empowered\, and connected—both to yourself and the universal energy that flows through us all. \nJoin us for this unique\, sensorial event\, and come prepared to embrace the unknown\, let go of control\, and embark on a profound inner journey. \nSpaces are limited—reserve your spot today and prepare to experience something truly extraordinary. \n\nYou can also pay by E-Transfer to veronikasmyname@gmail.com
URL:https://veronikastarr.com/event/echoes-in-motion/
LOCATION:O.Noir\, 124 Rue Prince-Arthur Est\, Montréal\, Quebec\, H2X 1B5\, Canada
CATEGORIES:Ecstatic Dance
ATTACH;FMTTYPE=image/png:https://veronikastarr.com/wp-content/uploads/2024/10/IG-Flyer.png
ORGANIZER;CN="Veronika Starr":MAILTO:veronikasmyname@gmail.com
END:VEVENT
END:VCALENDAR